2.50000000000000
0.00000000000000
0.00000000000000
-2.50000000000000
2693000.00000000000000
1231500.00000000000000
