2.50000000000000
0.00000000000000
0.00000000000000
-2.50000000000000
2705000.00000000000000
1261500.00000000000000
