2.50000000000000
0.00000000000000
0.00000000000000
-2.50000000000000
2669000.00000000000000
1269000.00000000000000
