2.50000000000000
0.00000000000000
0.00000000000000
-2.50000000000000
2681000.00000000000000
1276500.00000000000000
