0.1250000000
0.0000000000
0.0000000000
-0.1250000000
2690000.0625000000
1229999.9375000000
