0.1250000000
0.0000000000
0.0000000000
-0.1250000000
2676875.0625000000
1229999.9375000000
