0.1250000000
0.0000000000
0.0000000000
-0.1250000000
2670312.5625000000
1237499.9375000000
