0.1250000000
0.0000000000
0.0000000000
-0.1250000000
2714062.5625000000
1238999.9375000000
