0.1250000000
0.0000000000
0.0000000000
-0.1250000000
2709687.5625000000
1241999.9375000000
