0.1250000000
0.0000000000
0.0000000000
-0.1250000000
2679062.5625000000
1243499.9375000000
