0.1250000000
0.0000000000
0.0000000000
-0.1250000000
2716250.0625000000
1244999.9375000000
