0.1250000000
0.0000000000
0.0000000000
-0.1250000000
2705312.5625000000
1247999.9375000000
