0.1250000000
0.0000000000
0.0000000000
-0.1250000000
2711875.0625000000
1255499.9375000000
