0.1250000000
0.0000000000
0.0000000000
-0.1250000000
2698750.0625000000
1256999.9375000000
