0.1250000000
0.0000000000
0.0000000000
-0.1250000000
2672500.0625000000
1262999.9375000000
