0.1250000000
0.0000000000
0.0000000000
-0.1250000000
2700937.5625000000
1264499.9375000000
