0.1250000000
0.0000000000
0.0000000000
-0.1250000000
2687812.5625000000
1265999.9375000000
