0.1250000000
0.0000000000
0.0000000000
-0.1250000000
2681250.0625000000
1270499.9375000000
