0.1250000000
0.0000000000
0.0000000000
-0.1250000000
2692187.5625000000
1271999.9375000000
