0.1250000000
0.0000000000
0.0000000000
-0.1250000000
2683437.5625000000
1274999.9375000000
