0.1250000000
0.0000000000
0.0000000000
-0.1250000000
2694375.0625000000
1277999.9375000000
