0.00000000000000
0.13000000000000
0.13000000000000
-0.00000000000000
713586.49313953496000
238030.63267441856000
