-0.00000000000000
-0.13000000000000
-0.13000000000000
0.00000000000000
716123.50686046504000
249015.36732558144000
