0.00000000000000
0.13000000000000
0.13000000000000
-0.00000000000000
711990.49313953496000
242194.63267441856000
