-0.00000000000000
-0.13000000000000
-0.13000000000000
0.00000000000000
714524.50686046504000
251700.36732558144000
