-0.00000000000000
-0.13000000000000
-0.13000000000000
0.00000000000000
712919.50686046504000
244147.36732558144000
