-0.00000000000000
-0.13000000000000
-0.13000000000000
0.00000000000000
712911.50686046504000
245032.36732558144000
