-0.00000000000000
-0.13000000000000
-0.13000000000000
0.00000000000000
712931.50686046504000
246566.36732558144000
