0.00000000000000
0.13000000000000
0.13000000000000
-0.00000000000000
708785.49313953496000
233189.63267441856000
