0.00000000000000
0.13000000000000
0.13000000000000
-0.00000000000000
708776.49313953496000
255722.63267441856000
