0.00000000000000
0.13000000000000
0.13000000000000
-0.00000000000000
708770.49313953496000
264173.63267441856000
