0.00000000000000
0.13000000000000
0.13000000000000
-0.00000000000000
708750.49313953496000
265323.63267441856000
