-0.00000000000000
-0.13000000000000
-0.13000000000000
0.00000000000000
709693.50686046504000
245158.36732558144000
