-0.00000000000000
-0.13000000000000
-0.13000000000000
0.00000000000000
709720.50686046504000
251885.36732558144000
