-0.00000000000000
-0.13000000000000
-0.13000000000000
0.00000000000000
709709.50686046504000
254480.36732558144000
