-0.00000000000000
-0.13000000000000
-0.13000000000000
0.00000000000000
709712.50686046504000
259747.36732558144000
