-0.00000000000000
-0.13000000000000
-0.13000000000000
0.00000000000000
709701.50686046504000
261267.36732558144000
