-0.00000000000000
-0.13000000000000
-0.13000000000000
0.00000000000000
709716.50686046504000
263581.36732558144000
