0.00000000000000
0.13000000000000
0.13000000000000
-0.00000000000000
705549.49313953496000
235484.63267441856000
