0.00000000000000
0.13000000000000
0.13000000000000
-0.00000000000000
705553.49313953496000
236619.63267441856000
