0.00000000000000
0.13000000000000
0.13000000000000
-0.00000000000000
705565.49313953496000
238921.63267441856000
