0.00000000000000
0.13000000000000
0.13000000000000
-0.00000000000000
705569.49313953496000
245374.63267441856000
