0.00000000000000
0.13000000000000
0.13000000000000
-0.00000000000000
705577.49313953496000
259634.63267441856000
