-0.00000000000000
-0.13000000000000
-0.13000000000000
0.00000000000000
706457.50686046504000
234350.36732558144000
