-0.00000000000000
-0.13000000000000
-0.13000000000000
0.00000000000000
706482.50686046504000
241960.36732558144000
