-0.00000000000000
-0.13000000000000
-0.13000000000000
0.00000000000000
706495.50686046504000
249677.36732558144000
