-0.00000000000000
-0.13000000000000
-0.13000000000000
0.00000000000000
706497.50686046504000
253233.36732558144000
