-0.00000000000000
-0.13000000000000
-0.13000000000000
0.00000000000000
706490.50686046504000
267321.36732558144000
