-0.00000000000000
-0.13000000000000
-0.13000000000000
0.00000000000000
706499.50686046504000
270222.36732558144000
