-0.00000000000000
-0.13000000000000
-0.13000000000000
0.00000000000000
706483.50686046504000
272171.36732558144000
